BEGIN:VCALENDAR
VERSION:2.0
PRODID:-//Cương REAP - ECPv6.9.0//NONSGML v1.0//EN
CALSCALE:GREGORIAN
METHOD:PUBLISH
X-WR-CALNAME:Cương REAP
X-ORIGINAL-URL:https://cuongreap.com
X-WR-CALDESC:Events for Cương REAP
REFRESH-INTERVAL;VALUE=DURATION:PT1H
X-Robots-Tag:noindex
X-PUBLISHED-TTL:PT1H
BEGIN:VTIMEZONE
TZID:Asia/Krasnoyarsk
BEGIN:STANDARD
TZOFFSETFROM:+0700
TZOFFSETTO:+0700
TZNAME:+07
DTSTART:20240101T000000
END:STANDARD
END:VTIMEZONE
BEGIN:VEVENT
DTSTART;TZID=Asia/Krasnoyarsk:20241016T080000
DTEND;TZID=Asia/Krasnoyarsk:20241016T080000
DTSTAMP:20260420T190608
CREATED:20240816T034343Z
LAST-MODIFIED:20240904T043250Z
UID:556-1729065600-1729065600@cuongreap.com
SUMMARY:Vinhomes Cổ Loa Đông Anh
DESCRIPTION:Vinhomes Cổ Loa Đông Anh dự kiến ra hàng (Chưa chính thức) vào tháng 10/2024. Dưới đây là một số thông tin về dự án Cương REAP tổng hợp lại từ nhiều nguồn\, do Chủ đầu tư chưa công bố thông tin chính thức cuối cùng\, vì vậy bạn nên cân nhắc khi xem thông tin.\n“Lưu ý: Cương Reap sẽ chỉnh sửa cập nhật thông tin để phù hợp với các thời điểm. Vì vậy bạn nên thường xuyên xem lại bài viết” \nMặt Bằng Vinhomes Global Gate – Cổ Loa Đông Anh\nThông Tin Bất Động Sản Vinhomes Cổ Loa Dự Kiến\nDự án Vinhomes Cổ Loa Đông Anh Hà Nội dự kiến có 4 loại hính sản phẩm chính là biệt thự đơn lập\, biệt thự song lập\, biệt thự tứ lập và nhà phố liền kề. Dưới đây là thông tin từng loại hình: \nBiệt thự đơn lập\nĐơn Lập Vinhomes Cổ Loa :Diện tích đất: 212\,5m2Mặt tiền đất: 12\,5mChiều dài đất: 17mMặt tiền xây dựng nhà: 8\,5mXẻ khe 2 bên cạnh nhà : 2mKhoảng Lùi Trước nhà : 2\,4mkhoảng Lùi sau nhà : 2mDtxd sàn tầng 1 : 107m2\nBiệt thự song lập\n  \nBiệt thự Song lập Vinhomes Cổ Loa:Diện tích đất : 144\,5m2Mặt tiền đất : 8\,5mChiều dài đất : 17mMặt tiền xây dựng nhà: 6\,5mXẻ khe bên cạnh nhà : 2mKhoảng Lùi Trước nhà : 2\,4mKhoảng Lùi sau nhà : 2mDiện tích xây dựng sàn tầng 1 : 82m2\nBiệt thự tứ lập\nBiệt Thự Tứ Lập :Diện tích đất : 127\,5m2Mặt tiền đất : …..mChiều dài đất : 15mMặt tiền xây dựng nhà : ….mXẻ khe bên cạnh nhà : 2mKhoảng Lùi Trước nhà : 2\,4mKhoảng Lùi sau nhà : 0mDiện tích sàn tầng 1 : …. m2\nThông tin sản phẩm liền kề Vinhomes Đông Anh\nLiền kề các loại \, có diện tích đất và kích thước đất tại Vin Cổ Loa như sau:\n1. Loại liền kề có diện tích từ hơn 60m² đến 80m²\n✅️ 62\,5m² với kích thước là: 5×12\,5m\n✅️ 63m² với kích thước là: 4\,5x14m\n✅️ 67\,5m² với kích thước là: 5×13\,5m\n✅ 70m² với kích thước là: 5x14m\n✅️ 75m² với kích thước là: 5x15m\n✅️ 77m² với kích thước là: 5\,5x14m\n✅️ 80m² với kích thước là: 5x16m\n2. Loại liền kề có diện tích từ hơn 80m² đến 100m²\n✅️ 80m² với kích thước là: 5x16m\n✅️ 81\,3m² với kích thước là: 5×16\,26m\n✅️ 84m² với kích thước là: 6x14m\n✅️ 85m² với kích thước là: 5x17m\n✅️ 90m² với kích thước là: 5x18m\n✅️ 93\,6m² với kích thước là: 5×18\,72m\n✅️ 97\,5m² với kích thước là: 6\,5x15m\n✅️ 100m² với kích thước là: 5x20m\n3. Loại liền kề có diện tích hơn 100m²\n✅️ 107\,9m² với kích thước là: 6\,5×16\,6\n\nThông tin chung về dự án\n\nDự án Vinhomes Global Gate – Cổ Loa Đông Anh là một khu đô thị sinh thái kiểu mẫu nằm tại huyện Đông Anh\, Thành phố Hà Nội. Dự án được đầu tư bởi Tập đoàn Vingroup và Công ty Cổ phần Trung tâm Hội chợ Triển lãm Việt Nam (VEFAC)\, trên tổng diện tích đất là 385ha. Trong đó\, Trung tâm Hội chợ Triển lãm quốc gia chiếm 90ha và khu đô thị phát triển là 295ha. \nTổng mức đầu tư cho dự án là 42.215\,24 tỉ đồng\, trong đó vốn đầu tư cho Trung tâm Hội chợ Triển lãm Quốc gia là 7.336\,24 tỉ đồng. Dự án bao gồm nhiều loại hình sản phẩm như biệt thự đơn lập\, song lập\, liền kề\, shophouse thương mại\, chung cư\, tổ hợp khách sạn 5 sao và văn phòng cao cấp. \nVinhomes Cổ Loa Đông Anh có vị trí thuận lợi tại đường Trường Sa\, xã Đông Hội\, huyện Đông Anh\, Hà Nội. Dự án đã được phê duyệt pháp lý và sẽ khởi công và mở bán vào năm 2022\, cam kết mang đến cho khách hàng một cuộc sống sang trọng\, đẳng cấp 5 sao với các tiện ích dịch vụ khép kín\, đồng bộ. \nTập đoàn Vingroup\, đơn vị phát triển dự án này\, đã có lịch sử và kinh nghiệm trong các dự án bất động sản lớn tại Việt Nam\, đảm bảo chất lượng và tiến độ cho Vinhomes Cổ Loa Đông Anh. \nVị trí của Dự án Vinhomes Cổ Loa Đông Anh\nVị trí của dự án Vinhomes Cổ Loa được đánh giá là rất đắc địa và có tiềm năng phát triển vượt trội kết nối Quận Tây Hồ dễ dàng khi cầu Tứ Liên triển khai xong\, với các điểm nổi bật như sau: \nVị trí dự án Vinhomes Cổ Loa Đông Anh\nNằm trên địa phận 3 xã Đông Hội\, Xuân Canh\, Mai Lâm thuộc huyện Đông Anh\, thành phố Hà Nội. \nCách trung tâm thành phố chỉ 6 km\, thuận tiện di chuyển vào trung tâm. \nCách cầu Đông Trù chỉ 1 km\, kết nối giao thông thuận tiện. \nGiáp sông Hồng\, sông Đuống và sông Đào Ngũ Huyện Khê\, mang lại không gian sống gần gũi với thiên nhiên. \nPhía Đông Nam giáp tuyến đường nối từ cầu Tứ Liên đi vòng cung Vành đai 3\, tạo điều kiện thuận lợi cho việc di chuyển và kinh doanh. \nPhía Tây Bắc giáp tuyến đường trong quy hoạch dọc theo trục không gian Hồ Tây – Cổ Loa\, mở rộng không gian sinh thái và dịch vụ tiện ích. \nPhía Đông Bắc giáp đường Trường Sa\, trục giao thông huyết mạch nối đường quốc lộ 5 và sân bay Nội Bài\, thuận tiện cho việc đi lại và kinh doanh. \nNhững lợi thế về vị trí này giúp Vinhomes Cổ Loa hứa hẹn là một điểm đầu tư bất động sản hấp dẫn\, mang lại tiềm năng sinh lời cao cho các nhà đầu tư và cư dân. Nếu bạn quan tâm đến dự án Vinhomes Cổ Loa\, bạn có thể tìm hiểu thêm về các tiện ích và điều kiện đầu tư tại đó\, tôi có thể cung cấp thông tin phù hợp từng giai đoạn. \nTiện ích tiêu biểu khu đô thị Vinhomes Cổ Loa Đông Anh Hà Nội\nTrung tâm hội chợ triển lãm Quốc gia có điểm đặc biệt nào?\nThiết kế tòa nhà chính của Trung tâm hội chợ triển lãm được lấy cảm hứng từ loài hoa sen. Công trình mô phỏng đóa sen mãn khai rực rỡ mang biểu tượng văn hóa Việt. Các tòa nhà triển lãm sẽ được sắp xếp “giống như những cánh hoa nở rộ xung quanh phần nhụy hoa”.\nSở hữu diện tích trên 90ha với hơn 550.000m2 xây dựng công trình trong nhà. Trung tâm hội nghị và 8 khu triển lãm sẽ được xây dựng theo dạng hình tròn. Tạo ra một không gian mở đa chiều và cảm giác hiện đại\, sang trọng.\n2 khu triển lãm rộng 10.000 mét vuông. Sẽ được nối với nhau bằng một tòa nhà hình vòng có tên gọi là Concourse.\nThêm vào đó\, 6 khu hội chợ được xây dựng thêm ở phần cuối phía Tây và phía Đông. Các khu này dự kiến được thiết kế với hình vuông\, nối với các tòa nhà chính qua các khu trưng bày bằng vật liệu kính.\n\nTrung tâm hội trợ Vinhomes Cổ Loa Đông Anh Hà Nội\n\nLoại hình Bất động sản Vinhomes Cổ Loa\nDự án Vinhomes Cổ Loa cung cấp nhiều loại hình sản phẩm bất động sản để đáp ứng nhu cầu đa dạng của các khách hàng: \nBiệt thự Vinhomes Cổ Loa: \nBiệt thự đơn lập dự kiến có: Diện tích từ 180m² trở lên\, phù hợp cho gia đình có nhu cầu không gian sống rộng rãi và riêng tư. \nBiệt thự song lập: Diện tích từ 130m² đến hơn 200m²\, lựa chọn phù hợp cho những gia đình mong muốn không gian sống thoải mái và tiện nghi. \nNhà liền kề: \nNhà ở có diện tích từ 98m² đến 144m²\, được xây dựng từ 3\,5 đến 4\,5 tầng\, phù hợp với nhiều nhu cầu và độ tuổi của gia đình. \nNhà phố Shophouse: \nNhà ở kết hợp thương mại\, có diện tích từ 105m² đến 200m²\, thiết kế 4\,5 hoặc 5\,5 tầng. Vị trí đắc địa\, thích hợp cho việc kinh doanh và sinh sống tại chung một địa điểm. \nCăn hộ chung cư: \nCăn hộ cao cấp\, có diện tích từ 49m² đến trên 180m²\, thiết kế hiện đại đáp ứng các tiêu chuẩn châu Âu về không gian sống và tiện nghi. \nMỗi loại hình sản phẩm tại Vinhomes Cổ Loa đều được phát triển với tiêu chuẩn cao\, đảm bảo mọi nhu cầu và đặc biệt là với các tiện ích và vị trí địa lý thuận lợi. Đây là những lựa chọn hấp dẫn cho nhà đầu tư và người mua nhà có nhu cầu tại khu vực này. \nCác sự kiện quan trọng và cập nhật về lịch sử\, tiến độ và pháp lý của dự án Vinhomes Cổ Loa như sau: \n\nNgày 28/5/2020: Thủ tướng Chính phủ phê duyệt Điều chỉnh cục bộ quy hoạch chung xây dựng Thủ đô (Khu vực Trung tâm Hội chợ Triển lãm Quốc gia huyện Đông Anh) tại Quyết định số 702/QĐ-TTg.\nNgày 15/6/2020: Quy hoạch phân khu đô thị GN(A) đã được UBND Thành phố Hà Nội phê duyệt tại Quyết định số 2465/QĐ-UBND.\nNgày 19/06/2020: Trung tâm Hội chợ Triển lãm Quốc gia và Khu đô thị mới (Vinhomes Cổ Loa) nằm tại các xã Xuân Canh\, Đông Hội\, Mai Lâm của huyện Đông Anh đã được Ủy Ban Nhân Dân Thành Phố Hà Nội đồng ý duyệt Quy hoạch chi tiết tỉ lệ 1/500 tại Quyết định 2588/QĐ-UBND.\n\nĐây là các bước quan trọng trong quá trình phê duyệt quy hoạch và chuẩn bị cho việc triển khai dự án Vinhomes Cổ Loa\, đảm bảo tính pháp lý và tiến độ cho dự án trong tương lai.
URL:https://cuongreap.com/event/vinhomes-co-loa-dong-anh/
LOCATION:Vinhomes Cổ Loa Đông Anh\, Cổ Loa\, Đông Anh\, Hà Nội\, Hà Nội\, 100000\, Viet Nam
CATEGORIES:Dự án sắp công bố
ATTACH;FMTTYPE=image/jpeg:https://cuongreap.com/wp-content/uploads/2024/08/vi-tri-vinhomes-dong-anh.jpg
END:VEVENT
END:VCALENDAR